BEGIN:VCALENDAR
VERSION:2.0
PRODID:-//wp-events-plugin.com//7.2.3.1//EN
TZID:America/New_York
X-WR-TIMEZONE:America/New_York
BEGIN:VEVENT
UID:3@masjidsadar.com
DTSTART:20210402T000000Z
DTEND:20210402T000000Z
DTSTAMP:20260120T225507Z
URL:https://masjidsadar.com/events/sayreville-proclaims-january-as-muslim-
 heritage-month/
SUMMARY:Sayreville Proclaims January as Muslim Heritage Month
DESCRIPTION:In a heartwarming ceremony held at the Sayreville City Hall on 
 January 30th\, the small but vibrant borough of Sayreville\, New Jersey\, 
 marked a significant milestone in its commitment to diversity and inclusiv
 ity. The Mayor’s Proclamation Ceremony\, a landmark event\, officially p
 roclaimed January as Muslim Heritage Month. This momentous occasion was gr
 aced by the presence of Sayreville Muslim community members and key commun
 ity figures.\n\nA Mayor’s Warm Welcome\nThe ceremony began with the May
 or Kennedy O’Brien extending a warm welcome to all attendees. His words
  resonated with a sense of unity and care for the community he represents.
  “I am the mayor of the Sayreville community\, and I will take care of y
 ou\,” he assured. His message was clear and profound: Sayreville is a pl
 ace for everyone\, a community where every individual is valued and belong
 s. “We hope you like Sayreville and become part of the fabric of Sayrevi
 lle. We all are here. We live together\; we help one another\,” he added
 \, emphasizing the communal spirit that defines this borough.\n\nImam’s 
 Gratitude and Hope\nResponding to this gesture of goodwill\, Imam Ustadth
  Nazimool Saheb expressed his heartfelt gratitude on behalf of the Muslim
  community of Sayreville and the Masjid Sadar &amp\; Community Center. He
  acknowledged the significance of recognizing Muslim Heritage Month in Jan
 uary\, highlighting it as a testament to Sayreville’s dedication to cele
 brating diversity and fostering an inclusive environment. “Your commitme
 nt to celebrating diversity and fostering inclusivity in Sayreville is tru
 ly commendable\,” he said. The Imam’s words underscored the importance
  of promoting understanding and unity\, which are crucial in building a ha
 rmonious community.\n\nA Step Towards Inclusivity\nThe proclamation of Jan
 uary as Muslim Heritage Month is more than just a symbolic act\; it’s a 
 step towards greater understanding and acceptance in Sayreville. It reflec
 ts the borough’s commitment to recognizing and honoring the diverse cult
 ures and traditions that make up its social fabric. By celebrating Muslim 
 heritage\, Sayreville sets an example of how communities can embrace diver
 sity and work towards inclusivity.\n\nUnity in Diversity\nThe ceremony was
  not just a formal event but a celebration of unity in diversity. It broug
 ht together people from different backgrounds\, fostering a sense of belon
 ging and mutual respect. The Mayor’s and Imam’s speeches were a powerf
 ul reminder of the strength that lies in a community that values and respe
 cts its diverse members.\n\nLooking Forward\nAs Sayreville moves forward\,
  this proclamation serves as a beacon of hope and a reminder of the boroug
 h’s commitment to inclusivity and respect for all cultures. It paves the
  way for more initiatives that celebrate diversity and promote understandi
 ng among its residents.\nThe Sayreville Mayor’s Proclamation Ceremony to
  declare January as Muslim Heritage Month was a significant step towards a
 cknowledging and celebrating the rich cultural tapestry of the borough. It
  was an event that not only honored the Muslim community but also reinforc
 ed the values of unity\, respect\, and inclusivity that are essential for 
 the growth and harmony of Sayreville.\n\n    
ATTACH;FMTTYPE=image/jpeg:https://masjidsadar.com/wp-content/uploads/2024/
 01/WhatsApp-Image-2024-01-30-at-21.21.25.jpeg
END:VEVENT
END:VCALENDAR